BEGIN:VCALENDAR
VERSION:2.0
PRODID:-//Ravenswood Manor Improvement Association - ECPv6.15.20//NONSGML v1.0//EN
CALSCALE:GREGORIAN
METHOD:PUBLISH
X-ORIGINAL-URL:https://ravenswoodmanor.com
X-WR-CALDESC:Events for Ravenswood Manor Improvement Association
REFRESH-INTERVAL;VALUE=DURATION:PT1H
X-Robots-Tag:noindex
X-PUBLISHED-TTL:PT1H
BEGIN:VTIMEZONE
TZID:America/Chicago
BEGIN:DAYLIGHT
TZOFFSETFROM:-0600
TZOFFSETTO:-0500
TZNAME:CDT
DTSTART:20230312T080000
END:DAYLIGHT
BEGIN:STANDARD
TZOFFSETFROM:-0500
TZOFFSETTO:-0600
TZNAME:CST
DTSTART:20231105T070000
END:STANDARD
BEGIN:DAYLIGHT
TZOFFSETFROM:-0600
TZOFFSETTO:-0500
TZNAME:CDT
DTSTART:20240310T080000
END:DAYLIGHT
BEGIN:STANDARD
TZOFFSETFROM:-0500
TZOFFSETTO:-0600
TZNAME:CST
DTSTART:20241103T070000
END:STANDARD
BEGIN:DAYLIGHT
TZOFFSETFROM:-0600
TZOFFSETTO:-0500
TZNAME:CDT
DTSTART:20250309T080000
END:DAYLIGHT
BEGIN:STANDARD
TZOFFSETFROM:-0500
TZOFFSETTO:-0600
TZNAME:CST
DTSTART:20251102T070000
END:STANDARD
END:VTIMEZONE
BEGIN:VEVENT
DTSTART;TZID=America/Chicago:20240905T183000
DTEND;TZID=America/Chicago:20240905T200000
DTSTAMP:20260419T154949
CREATED:20240827T212646Z
LAST-MODIFIED:20240827T212646Z
UID:3986-1725561000-1725566400@ravenswoodmanor.com
SUMMARY:2nd District School Board Forum
DESCRIPTION:  \nWhat:  Second District School Board Forum\nWho: Hosted by 40th Ward Dems\, Our 40th\, and 40th Ward Workers United\nWhen: Thursday\, September 5th 2024 \nTime: Doors open at 6:00pm. Forum from 6:30 – 8:00 PM\nEvent Address:  Amundsen High School – 5110 N Damen Ave\, Chicago\, IL 60625\nPost-Forum Meetup: Kay’s Dugout – 1930 W Foster Ave\n\nAs Chicago looks forward to choosing its first elected School Board Members in November\, progressive organizations in the 40th Ward will host a forum for the District 2 candidates on September 5th at Amundsen High School from 6:30 to 8:00 PM. Please RSVP using this form and submit questions you would like to hear the candidates answer!\n\nInvited Candidates Include: Ebony DeBerry\, Maggie Cullerton Hooper\, Kate Doyle and Bruce Leon\n\n\nRSVP – bit.ly/2nddistrictforum\n\n\nSponsored by the 40th Ward Dems\, Our 40th and 40th Ward Workers United
URL:https://ravenswoodmanor.com/event/2nd-district-school-board-forum/
LOCATION:Amundsen High School\, 5110 N Damen Ave\, Chicago
END:VEVENT
END:VCALENDAR