BEGIN:VCALENDAR
VERSION:2.0
PRODID:-//Ravenswood Manor Improvement Association - ECPv6.15.20//NONSGML v1.0//EN
CALSCALE:GREGORIAN
METHOD:PUBLISH
X-ORIGINAL-URL:https://ravenswoodmanor.com
X-WR-CALDESC:Events for Ravenswood Manor Improvement Association
REFRESH-INTERVAL;VALUE=DURATION:PT1H
X-Robots-Tag:noindex
X-PUBLISHED-TTL:PT1H
BEGIN:VTIMEZONE
TZID:America/Chicago
BEGIN:DAYLIGHT
TZOFFSETFROM:-0600
TZOFFSETTO:-0500
TZNAME:CDT
DTSTART:20230312T080000
END:DAYLIGHT
BEGIN:STANDARD
TZOFFSETFROM:-0500
TZOFFSETTO:-0600
TZNAME:CST
DTSTART:20231105T070000
END:STANDARD
BEGIN:DAYLIGHT
TZOFFSETFROM:-0600
TZOFFSETTO:-0500
TZNAME:CDT
DTSTART:20240310T080000
END:DAYLIGHT
BEGIN:STANDARD
TZOFFSETFROM:-0500
TZOFFSETTO:-0600
TZNAME:CST
DTSTART:20241103T070000
END:STANDARD
BEGIN:DAYLIGHT
TZOFFSETFROM:-0600
TZOFFSETTO:-0500
TZNAME:CDT
DTSTART:20250309T080000
END:DAYLIGHT
BEGIN:STANDARD
TZOFFSETFROM:-0500
TZOFFSETTO:-0600
TZNAME:CST
DTSTART:20251102T070000
END:STANDARD
END:VTIMEZONE
BEGIN:VEVENT
DTSTART;VALUE=DATE:20241014
DTEND;VALUE=DATE:20241102
DTSTAMP:20260419T133349
CREATED:20241010T164029Z
LAST-MODIFIED:20241010T164029Z
UID:4042-1728871200-1730426399@ravenswoodmanor.com
SUMMARY:HalloWalk Decoration Raffle
DESCRIPTION:Decorate your home and submit it to our HalloWalk Decoration Raffle! Winners will be chosen at random on Nov 1. Win prizes from local businesses such as Bru Coffeeworks and Somethin’ Sweet Donuts! Learn more on the HalloWalk page here. \n  \n 
URL:https://ravenswoodmanor.com/event/hallowalk-decoration-raffle/
LOCATION:IL
ATTACH;FMTTYPE=image/png:https://ravenswoodmanor.com/wp-content/uploads/2024/09/IG-HalloWalk-2024-Coming-Soon.png
END:VEVENT
BEGIN:VEVENT
DTSTART;TZID=America/Chicago:20241024T180000
DTEND;TZID=America/Chicago:20241024T193000
DTSTAMP:20260419T133350
CREATED:20240913T190718Z
LAST-MODIFIED:20240913T190718Z
UID:4007-1729792800-1729798200@ravenswoodmanor.com
SUMMARY:RMIA Annual Meeting
DESCRIPTION:Join us for our Annual meeting on Thursday\, October 24th at 6pm at Waters Elementary – south Garden entrance. We will hear from the 40th and 33rd wards and CDOT about upcoming traffic and pedestrian safety projects planned for Ravenswood Manor. We will also provide an update on current RMIA initiatives and vote for new RMIA Board Members and Officers. Hope to see you there! \n  \n 
URL:https://ravenswoodmanor.com/event/rmia-annual-meeting/
LOCATION:Waters Elementary School
END:VEVENT
END:VCALENDAR