BEGIN:VCALENDAR
VERSION:2.0
PRODID:-//Ravenswood Manor Improvement Association - ECPv6.15.20//NONSGML v1.0//EN
CALSCALE:GREGORIAN
METHOD:PUBLISH
X-ORIGINAL-URL:https://ravenswoodmanor.com
X-WR-CALDESC:Events for Ravenswood Manor Improvement Association
REFRESH-INTERVAL;VALUE=DURATION:PT1H
X-Robots-Tag:noindex
X-PUBLISHED-TTL:PT1H
BEGIN:VTIMEZONE
TZID:America/Chicago
BEGIN:DAYLIGHT
TZOFFSETFROM:-0600
TZOFFSETTO:-0500
TZNAME:CDT
DTSTART:20240310T080000
END:DAYLIGHT
BEGIN:STANDARD
TZOFFSETFROM:-0500
TZOFFSETTO:-0600
TZNAME:CST
DTSTART:20241103T070000
END:STANDARD
BEGIN:DAYLIGHT
TZOFFSETFROM:-0600
TZOFFSETTO:-0500
TZNAME:CDT
DTSTART:20250309T080000
END:DAYLIGHT
BEGIN:STANDARD
TZOFFSETFROM:-0500
TZOFFSETTO:-0600
TZNAME:CST
DTSTART:20251102T070000
END:STANDARD
BEGIN:DAYLIGHT
TZOFFSETFROM:-0600
TZOFFSETTO:-0500
TZNAME:CDT
DTSTART:20260308T080000
END:DAYLIGHT
BEGIN:STANDARD
TZOFFSETFROM:-0500
TZOFFSETTO:-0600
TZNAME:CST
DTSTART:20261101T070000
END:STANDARD
END:VTIMEZONE
BEGIN:VEVENT
DTSTART;TZID=America/Chicago:20250419T100000
DTEND;TZID=America/Chicago:20250419T103000
DTSTAMP:20260419T120929
CREATED:20250310T183600Z
LAST-MODIFIED:20250410T003945Z
UID:4124-1745056800-1745058600@ravenswoodmanor.com
SUMMARY:Egg Hunt in Manor Park
DESCRIPTION:The Ravenswood Manor Egg Hunt will take place at 10am SHARP in Ravenswood Manor Park on April 19th\, 2025. This is the Saturday before Easter. Come early since the event is over in less than 2 minutes. Please bring your own basket or bag and plan to return your plastic eggs for reuse on your way out. We will also have samples from Nothing Bundt Cakes and Hotel Chocolat available on a first come first served basis. Families with allergies can find a member of the RMIA board to trade out candy for a non-candy prize. \n  \n  \n  \n 
URL:https://ravenswoodmanor.com/event/egg-hunt-in-manor-park/
LOCATION:IL
END:VEVENT
END:VCALENDAR