BEGIN:VCALENDAR
VERSION:2.0
PRODID:-//Ravenswood Manor Improvement Association - ECPv6.15.20//NONSGML v1.0//EN
CALSCALE:GREGORIAN
METHOD:PUBLISH
X-ORIGINAL-URL:https://ravenswoodmanor.com
X-WR-CALDESC:Events for Ravenswood Manor Improvement Association
REFRESH-INTERVAL;VALUE=DURATION:PT1H
X-Robots-Tag:noindex
X-PUBLISHED-TTL:PT1H
BEGIN:VTIMEZONE
TZID:America/Chicago
BEGIN:DAYLIGHT
TZOFFSETFROM:-0600
TZOFFSETTO:-0500
TZNAME:CDT
DTSTART:20240310T080000
END:DAYLIGHT
BEGIN:STANDARD
TZOFFSETFROM:-0500
TZOFFSETTO:-0600
TZNAME:CST
DTSTART:20241103T070000
END:STANDARD
BEGIN:DAYLIGHT
TZOFFSETFROM:-0600
TZOFFSETTO:-0500
TZNAME:CDT
DTSTART:20250309T080000
END:DAYLIGHT
BEGIN:STANDARD
TZOFFSETFROM:-0500
TZOFFSETTO:-0600
TZNAME:CST
DTSTART:20251102T070000
END:STANDARD
BEGIN:DAYLIGHT
TZOFFSETFROM:-0600
TZOFFSETTO:-0500
TZNAME:CDT
DTSTART:20260308T080000
END:DAYLIGHT
BEGIN:STANDARD
TZOFFSETFROM:-0500
TZOFFSETTO:-0600
TZNAME:CST
DTSTART:20261101T070000
END:STANDARD
END:VTIMEZONE
BEGIN:VEVENT
DTSTART;TZID=America/Chicago:20250705T093000
DTEND;TZID=America/Chicago:20250705T110000
DTSTAMP:20260419T103206
CREATED:20250513T085629Z
LAST-MODIFIED:20250513T085629Z
UID:4159-1751707800-1751713200@ravenswoodmanor.com
SUMMARY:Bike Parade
DESCRIPTION:Cyclists big and small are invited to decorate their bikes and parade through the neighborhood from Buffalo Park to Manor Park on Saturday July 5th in celebration of Independence Day! Come at 9:30 to decorate. Parade begins at 10am. Adult supervision required for minors. A firetruck\, if available\, will lead the way\, and we’ll celebrate with paletas in the park afterwards. Come to cycle\, stay to mingle!
URL:https://ravenswoodmanor.com/event/bike-parade/
LOCATION:Buffalo Park\, 4500-4520 N Manor Av\, Chicago\, IL\, United States
END:VEVENT
END:VCALENDAR