BEGIN:VCALENDAR
VERSION:2.0
PRODID:-//Ravenswood Manor Improvement Association - ECPv6.15.20//NONSGML v1.0//EN
CALSCALE:GREGORIAN
METHOD:PUBLISH
X-WR-CALNAME:Ravenswood Manor Improvement Association
X-ORIGINAL-URL:https://ravenswoodmanor.com
X-WR-CALDESC:Events for Ravenswood Manor Improvement Association
REFRESH-INTERVAL;VALUE=DURATION:PT1H
X-Robots-Tag:noindex
X-PUBLISHED-TTL:PT1H
BEGIN:VTIMEZONE
TZID:America/Chicago
BEGIN:DAYLIGHT
TZOFFSETFROM:-0600
TZOFFSETTO:-0500
TZNAME:CDT
DTSTART:20240310T080000
END:DAYLIGHT
BEGIN:STANDARD
TZOFFSETFROM:-0500
TZOFFSETTO:-0600
TZNAME:CST
DTSTART:20241103T070000
END:STANDARD
BEGIN:DAYLIGHT
TZOFFSETFROM:-0600
TZOFFSETTO:-0500
TZNAME:CDT
DTSTART:20250309T080000
END:DAYLIGHT
BEGIN:STANDARD
TZOFFSETFROM:-0500
TZOFFSETTO:-0600
TZNAME:CST
DTSTART:20251102T070000
END:STANDARD
BEGIN:DAYLIGHT
TZOFFSETFROM:-0600
TZOFFSETTO:-0500
TZNAME:CDT
DTSTART:20260308T080000
END:DAYLIGHT
BEGIN:STANDARD
TZOFFSETFROM:-0500
TZOFFSETTO:-0600
TZNAME:CST
DTSTART:20261101T070000
END:STANDARD
END:VTIMEZONE
BEGIN:VEVENT
DTSTART;TZID=America/Chicago:20250727T130000
DTEND;TZID=America/Chicago:20250727T170000
DTSTAMP:20260419T092329
CREATED:20250513T085014Z
LAST-MODIFIED:20250513T085014Z
UID:4157-1753621200-1753635600@ravenswoodmanor.com
SUMMARY:Garden Walk
DESCRIPTION:Join us for the 68th annual Ravenswood Manor Garden Walk. Pick up your map at Ravenswood Manor Park (4626 N Manor Ave\, Chicago IL 60625). $5 suggested donation. Stay for our FREE LIVE CONCERT by the Horner Park Jazz Band from 4:00-5:00 in Ravenswood Manor Park! Interested in having your garden on the walk? Email gardenwalk@ravenswoodmanor.com.
URL:https://ravenswoodmanor.com/event/garden-walk-2/
LOCATION:Ravenswood Manor Park
END:VEVENT
END:VCALENDAR