BEGIN:VCALENDAR
VERSION:2.0
PRODID:-//Ravenswood Manor Improvement Association - ECPv6.15.20//NONSGML v1.0//EN
CALSCALE:GREGORIAN
METHOD:PUBLISH
X-ORIGINAL-URL:https://ravenswoodmanor.com
X-WR-CALDESC:Events for Ravenswood Manor Improvement Association
REFRESH-INTERVAL;VALUE=DURATION:PT1H
X-Robots-Tag:noindex
X-PUBLISHED-TTL:PT1H
BEGIN:VTIMEZONE
TZID:America/Chicago
BEGIN:DAYLIGHT
TZOFFSETFROM:-0600
TZOFFSETTO:-0500
TZNAME:CDT
DTSTART:20240310T080000
END:DAYLIGHT
BEGIN:STANDARD
TZOFFSETFROM:-0500
TZOFFSETTO:-0600
TZNAME:CST
DTSTART:20241103T070000
END:STANDARD
BEGIN:DAYLIGHT
TZOFFSETFROM:-0600
TZOFFSETTO:-0500
TZNAME:CDT
DTSTART:20250309T080000
END:DAYLIGHT
BEGIN:STANDARD
TZOFFSETFROM:-0500
TZOFFSETTO:-0600
TZNAME:CST
DTSTART:20251102T070000
END:STANDARD
BEGIN:DAYLIGHT
TZOFFSETFROM:-0600
TZOFFSETTO:-0500
TZNAME:CDT
DTSTART:20260308T080000
END:DAYLIGHT
BEGIN:STANDARD
TZOFFSETFROM:-0500
TZOFFSETTO:-0600
TZNAME:CST
DTSTART:20261101T070000
END:STANDARD
END:VTIMEZONE
BEGIN:VEVENT
DTSTART;TZID=America/Chicago:20250811T190000
DTEND;TZID=America/Chicago:20250811T203000
DTSTAMP:20260419T092436
CREATED:20250809T122354Z
LAST-MODIFIED:20250809T122354Z
UID:4231-1754938800-1754944200@ravenswoodmanor.com
SUMMARY:RMIA Board Meeting
DESCRIPTION:Join us for our August RMIA Board meeting on Monday\, August 11th at 7pm. The meeting will take place virtually at the Google Meet link below. All neighbors are welcome. \nRMIA Board Meeting\nMonday\, August 11 · 7:00 – 8:30pm\nTime zone: America/Chicago\nGoogle Meet joining info\nVideo call link: https://meet.google.com/mob-vdxo-sci\nOr dial: ‪(US) +1 414-856-5956‬ PIN: ‪527 304 720‬#\nMore phone numbers: https://tel.meet/mob-vdxo-sci?pin=9314200440348
URL:https://ravenswoodmanor.com/event/rmia-board-meeting-7/
LOCATION:IL
END:VEVENT
END:VCALENDAR