BEGIN:VCALENDAR
VERSION:2.0
PRODID:-//Ravenswood Manor Improvement Association - ECPv6.15.20//NONSGML v1.0//EN
CALSCALE:GREGORIAN
METHOD:PUBLISH
X-WR-CALNAME:Ravenswood Manor Improvement Association
X-ORIGINAL-URL:https://ravenswoodmanor.com
X-WR-CALDESC:Events for Ravenswood Manor Improvement Association
REFRESH-INTERVAL;VALUE=DURATION:PT1H
X-Robots-Tag:noindex
X-PUBLISHED-TTL:PT1H
BEGIN:VTIMEZONE
TZID:America/Chicago
BEGIN:DAYLIGHT
TZOFFSETFROM:-0600
TZOFFSETTO:-0500
TZNAME:CDT
DTSTART:20250309T080000
END:DAYLIGHT
BEGIN:STANDARD
TZOFFSETFROM:-0500
TZOFFSETTO:-0600
TZNAME:CST
DTSTART:20251102T070000
END:STANDARD
BEGIN:DAYLIGHT
TZOFFSETFROM:-0600
TZOFFSETTO:-0500
TZNAME:CDT
DTSTART:20260308T080000
END:DAYLIGHT
BEGIN:STANDARD
TZOFFSETFROM:-0500
TZOFFSETTO:-0600
TZNAME:CST
DTSTART:20261101T070000
END:STANDARD
BEGIN:DAYLIGHT
TZOFFSETFROM:-0600
TZOFFSETTO:-0500
TZNAME:CDT
DTSTART:20270314T080000
END:DAYLIGHT
BEGIN:STANDARD
TZOFFSETFROM:-0500
TZOFFSETTO:-0600
TZNAME:CST
DTSTART:20271107T070000
END:STANDARD
END:VTIMEZONE
BEGIN:VEVENT
DTSTART;TZID=America/Chicago:20260527T183000
DTEND;TZID=America/Chicago:20260527T193000
DTSTAMP:20260422T051248
CREATED:20260413T180434Z
LAST-MODIFIED:20260413T180434Z
UID:4517-1779906600-1779910200@ravenswoodmanor.com
SUMMARY:Free Yoga in LaPointe Park
DESCRIPTION:Join local yoga instructor and Ravenswood Manor neighbor Laura Johnston for an hour of yoga in the park. \nBring a mat\, water bottle\, bug spray\, and good energy for a relaxing evening with your neighbors. \nView our post for more details.
URL:https://ravenswoodmanor.com/event/free-yoga-in-lapointe-park-4/
LOCATION:LaPointe Park\, 4741 N Manor Ave\, Chicago\, IL\, 60625\, United States
END:VEVENT
BEGIN:VEVENT
DTSTART;TZID=America/Chicago:20260624T183000
DTEND;TZID=America/Chicago:20260624T193000
DTSTAMP:20260422T051248
CREATED:20260413T181226Z
LAST-MODIFIED:20260413T181226Z
UID:4523-1782325800-1782329400@ravenswoodmanor.com
SUMMARY:Free Yoga in LaPointe Park
DESCRIPTION:Join local yoga instructor and Ravenswood Manor neighbor Laura Johnston for an hour of yoga in the park. \nBring a mat\, water bottle\, bug spray\, and good energy for a relaxing evening with your neighbors. \nView our post for more details.
URL:https://ravenswoodmanor.com/event/free-yoga-in-lapointe-park-5/
LOCATION:LaPointe Park\, 4741 N Manor Ave\, Chicago\, IL\, 60625\, United States
END:VEVENT
BEGIN:VEVENT
DTSTART;TZID=America/Chicago:20260627T093000
DTEND;TZID=America/Chicago:20260627T223000
DTSTAMP:20260422T051248
CREATED:20260421T144630Z
LAST-MODIFIED:20260421T144630Z
UID:4552-1782552600-1782599400@ravenswoodmanor.com
SUMMARY:Bike & Scooter Parade
DESCRIPTION:Save the date for our annual bike & scooter parade starting at Buffalo Park. More details to come.
URL:https://ravenswoodmanor.com/event/bike-scooter-parade/
LOCATION:Buffalo Park\, 4500-4520 N Manor Av\, Chicago\, IL\, United States
END:VEVENT
BEGIN:VEVENT
DTSTART;TZID=America/Chicago:20260726T130000
DTEND;TZID=America/Chicago:20260726T160000
DTSTAMP:20260422T051248
CREATED:20260421T122917Z
LAST-MODIFIED:20260421T151557Z
UID:4545-1785070800-1785081600@ravenswoodmanor.com
SUMMARY:Ravenswood Manor Garden Walk
DESCRIPTION:Save the date for the 69th annual Ravenswood Manor Garden Walk. View our post for more details.
URL:https://ravenswoodmanor.com/event/ravenswood-manor-garden-walk/
END:VEVENT
BEGIN:VEVENT
DTSTART;TZID=America/Chicago:20260729T183000
DTEND;TZID=America/Chicago:20260729T183000
DTSTAMP:20260422T051248
CREATED:20260413T234230Z
LAST-MODIFIED:20260413T234230Z
UID:4538-1785349800-1785349800@ravenswoodmanor.com
SUMMARY:Free Yoga in LaPointe Park
DESCRIPTION:Join local yoga instructor and Ravenswood Manor neighbor Laura Johnston for an hour of yoga in the park. \nBring a mat\, water bottle\, bug spray\, and good energy for a relaxing evening with your neighbors. \nView our post for more details.
URL:https://ravenswoodmanor.com/event/free-yoga-in-lapointe-park-6/
LOCATION:LaPointe Park\, 4741 N Manor Ave\, Chicago\, IL\, 60625\, United States
END:VEVENT
BEGIN:VEVENT
DTSTART;TZID=America/Chicago:20260826T183000
DTEND;TZID=America/Chicago:20260826T193000
DTSTAMP:20260422T051248
CREATED:20260413T234349Z
LAST-MODIFIED:20260413T234349Z
UID:4540-1787769000-1787772600@ravenswoodmanor.com
SUMMARY:Free Yoga in LaPointe Park
DESCRIPTION:Join local yoga instructor and Ravenswood Manor neighbor Laura Johnston for an hour of yoga in the park. \nBring a mat\, water bottle\, bug spray\, and good energy for a relaxing evening with your neighbors. \nView our post for more details.
URL:https://ravenswoodmanor.com/event/free-yoga-in-lapointe-park-7/
LOCATION:LaPointe Park\, 4741 N Manor Ave\, Chicago\, IL\, 60625\, United States
END:VEVENT
BEGIN:VEVENT
DTSTART;TZID=America/Chicago:20260912T130000
DTEND;TZID=America/Chicago:20260912T160000
DTSTAMP:20260422T051248
CREATED:20260421T172606Z
LAST-MODIFIED:20260421T172606Z
UID:4571-1789218000-1789228800@ravenswoodmanor.com
SUMMARY:Manor Music Crawl
DESCRIPTION:Save the date for our second Manor Music Crawl on September 12\, 2026. More details to come.
URL:https://ravenswoodmanor.com/event/manor-music-crawl-2/
LOCATION:Ravenswood Manor\, 4600 N Manor\, Chicago\, IL\, United States
END:VEVENT
BEGIN:VEVENT
DTSTART;TZID=America/Chicago:20261211T180000
DTEND;TZID=America/Chicago:20261211T190000
DTSTAMP:20260422T051248
CREATED:20260421T172254Z
LAST-MODIFIED:20260421T172254Z
UID:4569-1797012000-1797015600@ravenswoodmanor.com
SUMMARY:Annual Pergola Lighting
DESCRIPTION:Save the date for our annual pergola lighting on December 11\,  2026 in Manor Park. More details to come.
URL:https://ravenswoodmanor.com/event/annual-pergola-lighting/
LOCATION:Ravenswood Manor Park
END:VEVENT
END:VCALENDAR