BEGIN:VCALENDAR
VERSION:2.0
PRODID:-//Ravenswood Manor Improvement Association - ECPv6.15.20//NONSGML v1.0//EN
CALSCALE:GREGORIAN
METHOD:PUBLISH
X-WR-CALNAME:Ravenswood Manor Improvement Association
X-ORIGINAL-URL:https://ravenswoodmanor.com
X-WR-CALDESC:Events for Ravenswood Manor Improvement Association
REFRESH-INTERVAL;VALUE=DURATION:PT1H
X-Robots-Tag:noindex
X-PUBLISHED-TTL:PT1H
BEGIN:VTIMEZONE
TZID:America/Chicago
BEGIN:DAYLIGHT
TZOFFSETFROM:-0600
TZOFFSETTO:-0500
TZNAME:CDT
DTSTART:20220313T080000
END:DAYLIGHT
BEGIN:STANDARD
TZOFFSETFROM:-0500
TZOFFSETTO:-0600
TZNAME:CST
DTSTART:20221106T070000
END:STANDARD
BEGIN:DAYLIGHT
TZOFFSETFROM:-0600
TZOFFSETTO:-0500
TZNAME:CDT
DTSTART:20230312T080000
END:DAYLIGHT
BEGIN:STANDARD
TZOFFSETFROM:-0500
TZOFFSETTO:-0600
TZNAME:CST
DTSTART:20231105T070000
END:STANDARD
BEGIN:DAYLIGHT
TZOFFSETFROM:-0600
TZOFFSETTO:-0500
TZNAME:CDT
DTSTART:20240310T080000
END:DAYLIGHT
BEGIN:STANDARD
TZOFFSETFROM:-0500
TZOFFSETTO:-0600
TZNAME:CST
DTSTART:20241103T070000
END:STANDARD
END:VTIMEZONE
BEGIN:VEVENT
DTSTART;TZID=America/Chicago:20231206T190000
DTEND;TZID=America/Chicago:20231206T200000
DTSTAMP:20260422T050630
CREATED:20230220T144937Z
LAST-MODIFIED:20230220T144937Z
UID:3387-1701889200-1701892800@ravenswoodmanor.com
SUMMARY:Horner Park Advisory Council Meeting
DESCRIPTION:HPAC meetings take place on the 1st Wednesday of each month\, at 7pm. Sign-up HERE.
URL:https://ravenswoodmanor.com/event/horner-park-advisory-council-meeting-23/
LOCATION:IL
END:VEVENT
BEGIN:VEVENT
DTSTART;TZID=America/Chicago:20231208T180000
DTEND;TZID=America/Chicago:20231208T190000
DTSTAMP:20260422T050630
CREATED:20231110T151221Z
LAST-MODIFIED:20231110T193230Z
UID:3706-1702058400-1702062000@ravenswoodmanor.com
SUMMARY:Holiday Lighting Ceremony
DESCRIPTION:Meet at Manor Park for the annual Ravenswood Manor Holiday Lighting Ceremony. Free hot cocoa and snacks and BYO picnic. 6:00 p.m. on December 8\, 2023. Add to calendar.
URL:https://ravenswoodmanor.com/event/holiday-lighting-ceremony/
LOCATION:Ravenswood Manor Park
END:VEVENT
BEGIN:VEVENT
DTSTART;TZID=America/Chicago:20231211T190000
DTEND;TZID=America/Chicago:20231211T200000
DTSTAMP:20260422T050630
CREATED:20230220T142347Z
LAST-MODIFIED:20231211T192521Z
UID:3365-1702321200-1702324800@ravenswoodmanor.com
SUMMARY:RMIA Meeting — Neighbors Welcome!
DESCRIPTION:The RMIA Board meets the second Monday of each month\, except for October and April\, when we have our Annual and Semi-Annual meetings. We take a break for summer during the months of July and August. Dates for annual meetings will be announced closer to those dates. \nThe December 11th meeting will be held virtually via Zoom at 7pm. Please use this link to register and receive the Zoom link.
URL:https://ravenswoodmanor.com/event/rmia-meeting-neighbors-welcome-3/
LOCATION:IL
END:VEVENT
END:VCALENDAR