BEGIN:VCALENDAR
VERSION:2.0
PRODID:-//Ravenswood Manor Improvement Association - ECPv6.15.20//NONSGML v1.0//EN
CALSCALE:GREGORIAN
METHOD:PUBLISH
X-WR-CALNAME:Ravenswood Manor Improvement Association
X-ORIGINAL-URL:https://ravenswoodmanor.com
X-WR-CALDESC:Events for Ravenswood Manor Improvement Association
REFRESH-INTERVAL;VALUE=DURATION:PT1H
X-Robots-Tag:noindex
X-PUBLISHED-TTL:PT1H
BEGIN:VTIMEZONE
TZID:America/Chicago
BEGIN:DAYLIGHT
TZOFFSETFROM:-0600
TZOFFSETTO:-0500
TZNAME:CDT
DTSTART:20230312T080000
END:DAYLIGHT
BEGIN:STANDARD
TZOFFSETFROM:-0500
TZOFFSETTO:-0600
TZNAME:CST
DTSTART:20231105T070000
END:STANDARD
BEGIN:DAYLIGHT
TZOFFSETFROM:-0600
TZOFFSETTO:-0500
TZNAME:CDT
DTSTART:20240310T080000
END:DAYLIGHT
BEGIN:STANDARD
TZOFFSETFROM:-0500
TZOFFSETTO:-0600
TZNAME:CST
DTSTART:20241103T070000
END:STANDARD
BEGIN:DAYLIGHT
TZOFFSETFROM:-0600
TZOFFSETTO:-0500
TZNAME:CDT
DTSTART:20250309T080000
END:DAYLIGHT
BEGIN:STANDARD
TZOFFSETFROM:-0500
TZOFFSETTO:-0600
TZNAME:CST
DTSTART:20251102T070000
END:STANDARD
END:VTIMEZONE
BEGIN:VEVENT
DTSTART;TZID=America/Chicago:20240311T190000
DTEND;TZID=America/Chicago:20240311T200000
DTSTAMP:20260420T003931
CREATED:20240108T182458Z
LAST-MODIFIED:20240308T142511Z
UID:3756-1710183600-1710187200@ravenswoodmanor.com
SUMMARY:RMIA Monthly Meeting
DESCRIPTION:The RMIA Board meets every second Monday of the month both in-person and online. Any and all are always welcome to attend. This meeting will take place in-person at TUTA Theatre Chicago at 4670 N Manor Ave at 7pm or via Zoom. Please use this registration link to gain access to the Zoom meeting details.
URL:https://ravenswoodmanor.com/event/rmia-monthly-meeting-3/
LOCATION:TUTA\, 4670 N Manor Ave\, Chicago\, IL\, 60625\, United States
END:VEVENT
BEGIN:VEVENT
DTSTART;TZID=America/Chicago:20240330T100000
DTEND;TZID=America/Chicago:20240330T110000
DTSTAMP:20260420T003931
CREATED:20240108T175120Z
LAST-MODIFIED:20240108T181915Z
UID:3742-1711792800-1711796400@ravenswoodmanor.com
SUMMARY:Easter Egg Hunt
DESCRIPTION:Mark your calendars for the annual Ravenswood Manor Easter Egg Hunt on Saturday March 30 at 10am. Bring a basket for the kids as they hop through Ravenswood Manor Park collecting fun filled Easter eggs!
URL:https://ravenswoodmanor.com/event/the-manor-easter-egg-hunt/
LOCATION:Ravenswood Manor Park
END:VEVENT
END:VCALENDAR