BEGIN:VCALENDAR
VERSION:2.0
PRODID:-//Ravenswood Manor Improvement Association - ECPv6.15.20//NONSGML v1.0//EN
CALSCALE:GREGORIAN
METHOD:PUBLISH
X-ORIGINAL-URL:https://ravenswoodmanor.com
X-WR-CALDESC:Events for Ravenswood Manor Improvement Association
REFRESH-INTERVAL;VALUE=DURATION:PT1H
X-Robots-Tag:noindex
X-PUBLISHED-TTL:PT1H
BEGIN:VTIMEZONE
TZID:America/Chicago
BEGIN:DAYLIGHT
TZOFFSETFROM:-0600
TZOFFSETTO:-0500
TZNAME:CDT
DTSTART:20230312T080000
END:DAYLIGHT
BEGIN:STANDARD
TZOFFSETFROM:-0500
TZOFFSETTO:-0600
TZNAME:CST
DTSTART:20231105T070000
END:STANDARD
BEGIN:DAYLIGHT
TZOFFSETFROM:-0600
TZOFFSETTO:-0500
TZNAME:CDT
DTSTART:20240310T080000
END:DAYLIGHT
BEGIN:STANDARD
TZOFFSETFROM:-0500
TZOFFSETTO:-0600
TZNAME:CST
DTSTART:20241103T070000
END:STANDARD
BEGIN:DAYLIGHT
TZOFFSETFROM:-0600
TZOFFSETTO:-0500
TZNAME:CDT
DTSTART:20250309T080000
END:DAYLIGHT
BEGIN:STANDARD
TZOFFSETFROM:-0500
TZOFFSETTO:-0600
TZNAME:CST
DTSTART:20251102T070000
END:STANDARD
END:VTIMEZONE
BEGIN:VEVENT
DTSTART;TZID=America/Chicago:20240610T190000
DTEND;TZID=America/Chicago:20240610T200000
DTSTAMP:20260419T181330
CREATED:20240108T182721Z
LAST-MODIFIED:20240308T142648Z
UID:3762-1718046000-1718049600@ravenswoodmanor.com
SUMMARY:RMIA Monthly Meeting
DESCRIPTION:The RMIA Board meets every second Monday of the month both in-person and online. Any and all are always welcome to attend. This meeting will take place in-person at TUTA Theatre Chicago at 4670 N Manor Ave at 7pm or via Zoom. Please use this registration link to gain access to the Zoom meeting details.
URL:https://ravenswoodmanor.com/event/rmia-monthly-meeting-6/
LOCATION:TUTA\, 4670 N Manor Ave\, Chicago\, IL\, 60625\, United States
END:VEVENT
BEGIN:VEVENT
DTSTART;TZID=America/Chicago:20240614T190000
DTEND;TZID=America/Chicago:20240614T210000
DTSTAMP:20260419T181330
CREATED:20240528T184536Z
LAST-MODIFIED:20240528T184700Z
UID:3883-1718391600-1718398800@ravenswoodmanor.com
SUMMARY:Manor Park Concert: Los Gallos
DESCRIPTION:Brought to Manor Park by the Horner Park Advisory Council\, the first in this series of summer concerts kicks off with Los Gallos. Los Gallos are Chicago’s premier Mexi-Americana Roots band. Transcending musical borders\, Los Gallos are known for their un-segregated sound. Their roots-oriented style draws upon traditional Latin sounds and American vibes.  Los Gallos seamlessly fuse an eclectic mix of Cumbia\, Tex-Mex and Bolero with Country\, Rock and Blues to create their signature sound. \n“Los Gallos filters Tex-Mex through garage rock on “Yeah Yeah Yeah.”  \n—Greg Kot\, The Chicago Tribune \n“Los Gallos bring the catchy “Yeah Yeah Yeah”\, built around a riff\, in typical garage rock fashion\, with the vocalist  bellowing his lines\, promising the listener he’ll rock and play the blues.”  \n—Spill Magazine \n“ … the best grungy Cowboy Movie theme tune never to make it onto the big screen… Los Gallos and Yeah! Yeah! Yeah!”  \n—The Rocking Magpie
URL:https://ravenswoodmanor.com/event/manor-park-concert-los-gallos/
LOCATION:Ravenswood Manor Park
END:VEVENT
BEGIN:VEVENT
DTSTART;TZID=America/Chicago:20240628T190000
DTEND;TZID=America/Chicago:20240628T210000
DTSTAMP:20260419T181330
CREATED:20240528T185143Z
LAST-MODIFIED:20240528T185143Z
UID:3885-1719601200-1719608400@ravenswoodmanor.com
SUMMARY:Manor Park Concert: Phil Angotti
DESCRIPTION:Brought to us by the Horner Park Advisory Council Summer Concert Series. \nKnown in Chicago as “THE Beatles guy”\, Phil Angotti consistently draws diverse audiences to Beatle shows; first when playing with the Beatle Brothers\, now with the Phil Angotti Band\, Great Moments in Vinyl\, the What4\, and as a solo performer. Phil plays the Beatles catalog by heart and from the heart. The years of practice\, listening and learning are evident\, especially since he is great at taking requests! The Kinks\, The Zombies\, The Bee-Gees\, Nick Drake and Buddy Holly all hold special places in his musical mind too. \nPhil is the current lead singer and guitar player for Material Issue\, a Chicago power-pop band who made it big in the early ‘90’s (they had videos on MTV when that was cool). Now known as Material ReIssue\, opening for The Smithereens is one of his favorite moments on stage in fact! Other great moments in Phil include opening for Marshall Crenshaw\, Richard Furay (Buffalo Springfield)\, and Eddie Money\, plus the Beatles album shows. \nThe *ahem* experience of this guy is key. His music came out first on vinyl\, then cassette\, 8-track\, cd’s\, then back to vinyl. Through all 14 solo albums Phil’s melody’s shine\, blending cool pop grooves with sweet harmonies. He’s proven a commitment to his craft and become one of Chicago’s most beloved artists.
URL:https://ravenswoodmanor.com/event/manor-park-concert-phil-angotti/
LOCATION:Ravenswood Manor Park
END:VEVENT
END:VCALENDAR