BEGIN:VCALENDAR
VERSION:2.0
PRODID:-//Ravenswood Manor Improvement Association - ECPv6.15.20//NONSGML v1.0//EN
CALSCALE:GREGORIAN
METHOD:PUBLISH
X-WR-CALNAME:Ravenswood Manor Improvement Association
X-ORIGINAL-URL:https://ravenswoodmanor.com
X-WR-CALDESC:Events for Ravenswood Manor Improvement Association
REFRESH-INTERVAL;VALUE=DURATION:PT1H
X-Robots-Tag:noindex
X-PUBLISHED-TTL:PT1H
BEGIN:VTIMEZONE
TZID:America/Chicago
BEGIN:DAYLIGHT
TZOFFSETFROM:-0600
TZOFFSETTO:-0500
TZNAME:CDT
DTSTART:20230312T080000
END:DAYLIGHT
BEGIN:STANDARD
TZOFFSETFROM:-0500
TZOFFSETTO:-0600
TZNAME:CST
DTSTART:20231105T070000
END:STANDARD
BEGIN:DAYLIGHT
TZOFFSETFROM:-0600
TZOFFSETTO:-0500
TZNAME:CDT
DTSTART:20240310T080000
END:DAYLIGHT
BEGIN:STANDARD
TZOFFSETFROM:-0500
TZOFFSETTO:-0600
TZNAME:CST
DTSTART:20241103T070000
END:STANDARD
BEGIN:DAYLIGHT
TZOFFSETFROM:-0600
TZOFFSETTO:-0500
TZNAME:CDT
DTSTART:20250309T080000
END:DAYLIGHT
BEGIN:STANDARD
TZOFFSETFROM:-0500
TZOFFSETTO:-0600
TZNAME:CST
DTSTART:20251102T070000
END:STANDARD
END:VTIMEZONE
BEGIN:VEVENT
DTSTART;TZID=America/Chicago:20240712T190000
DTEND;TZID=America/Chicago:20240712T210000
DTSTAMP:20260419T154729
CREATED:20240528T185405Z
LAST-MODIFIED:20240528T185405Z
UID:3887-1720810800-1720818000@ravenswoodmanor.com
SUMMARY:Manor Park Concert: Jon Langford and Sally Timms
DESCRIPTION:Jon Langford has been a constant fixture on the fringes of the music industry and art world for the last three decades\, irons in the fire\, plates in the air\, occasionally\, accidentally in tune with current fads and phases but happier charting his own contrary course through the choppy waters of popular culture. The Welsh born artist and musician\, who relocated to Chicago in 1992\, has a degree in fine art from the University of Leeds where (in great British art school tradition) he downed brushes to co-found that seminal punk rock band\, The Mekons in 1977. Jon currently performs with Chicago Hard Country legends the Waco Brothers and has a new album out this spring with his new band The Bright Shiners. \nKnown for his merging of country music themes with striking visuals Langford has produced album covers for artists as diverse as Dave Alvin & Jimmie Dale Gilmore\, Buddy Guy\, Hound Dog Taylor and Trio featuring Dolly Parton\, Emmylou Harris and Linda Ronstadt. In 2015 Langford was Artist in Residence at the Country Music Hall of Fame in Nashville and worked on visuals for the acclaimed DYLAN\, CASH and the NASHVILLE CATS exhibit. During this period he began working with Hatch Show-print master printer Jim Sherraden and under their aliases Bishop Biscuit and Father Drogo in recent years they have produced a series of collaborative works for their touring COMPLICATED CHARACTERS Art show. \nSally Timms was born in Leeds\, England. She grew up in the Yorkshire dales\, sang in the church choir and performed in poetry recitals as a child. In 1985 she joined the Mekons as a full-time member and has regretted it ever since.  Unfortunately\, the only way out of the Mekons is in a box\, so she’s still there. \nKnown as one of the laziest women in show business\, she frequently calls in favors from her most talented and successful friends so that she can dedicate more time to watching television and eating bananas. \nShe has blonde hair\, gray eyes\, and appalling mood swings.
URL:https://ravenswoodmanor.com/event/manor-park-concert-jon-langford-and-sally-timms/
LOCATION:Ravenswood Manor Park
END:VEVENT
BEGIN:VEVENT
DTSTART;TZID=America/Chicago:20240714T140000
DTEND;TZID=America/Chicago:20240714T160000
DTSTAMP:20260419T154729
CREATED:20240528T185614Z
LAST-MODIFIED:20240528T185614Z
UID:3889-1720965600-1720972800@ravenswoodmanor.com
SUMMARY:Manor Park Concert: Narloch Piano Recitals
DESCRIPTION:Christopher Narloch has been teaching at their own studio in Ravenswood Manor\, Chicago since 2011. They have over 60 private students and host four studio recitals each year\, including one each summer in Ravenswood Manor Park.
URL:https://ravenswoodmanor.com/event/manor-park-concert-narloch-piano-recitals/
LOCATION:Ravenswood Manor Park
END:VEVENT
BEGIN:VEVENT
DTSTART;TZID=America/Chicago:20240726T190000
DTEND;TZID=America/Chicago:20240726T210000
DTSTAMP:20260419T154729
CREATED:20240725T031622Z
LAST-MODIFIED:20240725T031622Z
UID:3916-1722020400-1722027600@ravenswoodmanor.com
SUMMARY:Horner Park Concert: Concert: Pravda Records Night—Steve Dawson and The Handcuffs
DESCRIPTION:Concert: Pravda Records Night—Steve Dawson and The Handcuffs\n\nFriday\, July 26\, 2024\n7:00 PM  9:00 PM\n\n\nHorner ParkChicago\, IL\, 60618United States (map)\n\n\n\n\n\n\n\n\n\n \n\n\n\n\n\n\n\n\n\n\nSteve Dawson \nOn Steve Dawson’s new album\, simply titled Ghosts\, his sixth as a solo artist\, the Chicago-based musician and songwriter\, well-known for the impassioned alternative country of the band Dolly Varden\, crafts ten songs that find reasons to believe – in music\, in human connections\, in desert vistas – even as the ghosts move all around him\, all around us. But those ghosts\, those presences of the past\, are part of why we hope. “Loss by loss\, year by year\,” Dawson reflects on the aching acoustic song “Sooner Than Expected.” Still he tries to keep up\, tries to keep pace with time. He knows hope doesn’t come easy and knows the ghosts can’t be wished away. \nLargely written between 2017 and 2023\, these ten songs combine intimate confessions and tightly constructed narratives. Across all ten songs\, Dawson’s voice\, with his soulful\, golden burr\, communicates with searing emotion and resilience. That visceral and instantly recognizable tone finds an ideal complement in an ensemble of principally Chicago-based musicians and close friends. \n“Many of my favorite albums were recorded live in the studio\,” Dawson says. “I was reading about Neil Young making Zuma and Tonight’s The Night\, all the 1970s Dylan records\, the Band’s second record. The arrangements on this new album were created on the spot\, and rather than a collection of overdubs\, the album is a performance.” \n\n\n\n\n\n\n \n\n\n\n\n\n\n\n\n\n\nThe Handcuffs \nLed by drummer Brad Elvis (Screams\, The Elvis Brothers\, Big Hello\, The Romantics) and vocalist/guitarist/saxophonist Chloe F. Orwell (Big Hello)\, Chicago’s The Handcuffs recently released their fourth studio album Burn The Rails(Pravda Records). The 13-song album was tracked at Kingsize Sound Labs\, Chicago\, with producer/engineer Mike Hagler (Wilco\, Neko Case\, Billy Bragg\, Mavis Staples\, My Morning Jacket\, The Mekons). Burn The Rails is available via all download and streaming platforms\, CD and on 12″ vinyl in summer 2024. \nFor the the new album\, The Handcuffs found inspiration from the heady\, analog days of early 1970s rock & roll\, weaving together elements of glam\, indie\, garage\, art and blues rock. Inhabiting some of the same musical turf as T-Rex\, Mott The Hoople\, Roxy Music\, The Raconteurs\, P.J. Harvey\, Led Zeppelin\, and Patti Smith – all filtered through a modern lens – they deliver bold\, sexy songs with memorable melodies and unexpected twists. \nElvis and Orwell formed The Handcuffs from the ashes of Big Hello\, their first band together\, which released three indie label records and toured from coast to coast. Elvis’ career also includes a few major label go-arounds\, arena tours\, and a backstory that will be documented in a new autobiography in the near future. The duo’s eagerness to explore new sonic territory and evolve into an entity that aligned more with their ever-expanding influences and broad range of musical tastes prompted a change. The Handcuffs began as primarily a studio project\, in which Elvis and Orwell wrote and recorded an abundance of material. During the process\, they realized that they missed the live band experience\, and so The Handcuffs as recording artists and a dynamic live band was born. Completing the line-up are bassist Emily Togni\, lead guitarist Charlie Short\, and keyboardist Carolyn Engelmann\, all of whom originate from different parts of the country\, but have made Chicago their home. \n\n\n\n\n\n\nThis concert is sponsored by Lyon Communications\, and Patrick Duffy\, Baird & Warner – North Center \n\n\n\n\n\n\n\n\nPosted In: Concerts\nTagged: Concerts
URL:https://ravenswoodmanor.com/event/horner-park-concert-concert-pravda-records-night-steve-dawson-and-the-handcuffs/
LOCATION:Horner Park
END:VEVENT
BEGIN:VEVENT
DTSTART;TZID=America/Chicago:20240728T130000
DTEND;TZID=America/Chicago:20240728T160000
DTSTAMP:20260419T154729
CREATED:20240520T110204Z
LAST-MODIFIED:20240725T150402Z
UID:3875-1722171600-1722182400@ravenswoodmanor.com
SUMMARY:Ravenswood Manor Garden Walk
DESCRIPTION:Join us for the 68th annual Ravenswood Manor Garden Walk. Pick up your map at Ravenswood Manor Park (4626 N Manor Ave\, Chicago IL 60625). $5 suggested donation. Come back to Ravenswood Manor Park after your walk for a FREE LIVE CONCERT from 2pm – 4pm featuring the Horner Park Jazz Band!
URL:https://ravenswoodmanor.com/event/ravenswood-manor-garden-walk-3/
LOCATION:IL
END:VEVENT
BEGIN:VEVENT
DTSTART;TZID=America/Chicago:20240728T140000
DTEND;TZID=America/Chicago:20240728T160000
DTSTAMP:20260419T154729
CREATED:20240528T185816Z
LAST-MODIFIED:20240528T185816Z
UID:3891-1722175200-1722182400@ravenswoodmanor.com
SUMMARY:Manor Park Concert: The Horner Park Jazz Band
DESCRIPTION:Come relax with some fantastic jazz offered up by our very own band of jazz enthusiasts. An easy afternoon of jazz is the perfect way to end the weekend and head into a new week with the right frame of mind. \nIf you’re a musician\, you might just find your next project—the Horner Park Jazz Band rehearses on Monday nights at Horner Park\, and anyone can bring an instrument and sit in!
URL:https://ravenswoodmanor.com/event/manor-park-concert-the-horner-park-jazz-band/
LOCATION:Ravenswood Manor Park
END:VEVENT
END:VCALENDAR