BEGIN:VCALENDAR
VERSION:2.0
PRODID:-//Ravenswood Manor Improvement Association - ECPv6.15.20//NONSGML v1.0//EN
CALSCALE:GREGORIAN
METHOD:PUBLISH
X-ORIGINAL-URL:https://ravenswoodmanor.com
X-WR-CALDESC:Events for Ravenswood Manor Improvement Association
REFRESH-INTERVAL;VALUE=DURATION:PT1H
X-Robots-Tag:noindex
X-PUBLISHED-TTL:PT1H
BEGIN:VTIMEZONE
TZID:America/Chicago
BEGIN:DAYLIGHT
TZOFFSETFROM:-0600
TZOFFSETTO:-0500
TZNAME:CDT
DTSTART:20230312T080000
END:DAYLIGHT
BEGIN:STANDARD
TZOFFSETFROM:-0500
TZOFFSETTO:-0600
TZNAME:CST
DTSTART:20231105T070000
END:STANDARD
BEGIN:DAYLIGHT
TZOFFSETFROM:-0600
TZOFFSETTO:-0500
TZNAME:CDT
DTSTART:20240310T080000
END:DAYLIGHT
BEGIN:STANDARD
TZOFFSETFROM:-0500
TZOFFSETTO:-0600
TZNAME:CST
DTSTART:20241103T070000
END:STANDARD
BEGIN:DAYLIGHT
TZOFFSETFROM:-0600
TZOFFSETTO:-0500
TZNAME:CDT
DTSTART:20250309T080000
END:DAYLIGHT
BEGIN:STANDARD
TZOFFSETFROM:-0500
TZOFFSETTO:-0600
TZNAME:CST
DTSTART:20251102T070000
END:STANDARD
END:VTIMEZONE
BEGIN:VEVENT
DTSTART;TZID=America/Chicago:20240809T190000
DTEND;TZID=America/Chicago:20240809T210000
DTSTAMP:20260419T133116
CREATED:20240528T190017Z
LAST-MODIFIED:20240528T190017Z
UID:3893-1723230000-1723237200@ravenswoodmanor.com
SUMMARY:Manor Park Concert: Bird x Butterfly and The Nettes
DESCRIPTION:Bird x Butterfly is a Korean-American duo composed of Chicago singer-songwriters Frances Kang and Paul Kim. Together\, they create indie-pop that blends ethereal soundscapes and introspective lyrics with haunting\, harmonizing vocals. Their genre-bending music is often inspired by the beauty of nature and the complexity of the human experience — like their latest single “White (As We Speak)” and their first single “Monarch\,” which was highlighted as one of NPR’s favorite entries for its 2021 Tiny Desk Contest. \nThe Nettes is a harmony-infused group based in Chicago featuring songwriters Alex Fiolek\, Kristina Cottone\, and Sonya Major. Together\, their music fuses soaring melodies\, compelling lyricism\, and tasteful instrumentation.
URL:https://ravenswoodmanor.com/event/manor-park-concert-bird-x-butterfly-and-the-nettes/
LOCATION:Ravenswood Manor Park
END:VEVENT
BEGIN:VEVENT
DTSTART;VALUE=DATE:20240824
DTEND;VALUE=DATE:20240826
DTSTAMP:20260419T133116
CREATED:20240108T183827Z
LAST-MODIFIED:20240731T155037Z
UID:3767-1724464800-1724551199@ravenswoodmanor.com
SUMMARY:Manor Bash - Celebrating 110 Years!
DESCRIPTION:Mark your calendars to celebrate the 110 years anniversary of the Ravenswood Manor Improvement Association on August 24th\, 2024 with a day full of activities\, concerts\, and celebrations in and around Ravenswood Manor Park. For all the details about this event\, please visit the dedicated page on this website here. \n 
URL:https://ravenswoodmanor.com/event/manor-bash-celebrating-110-years/
LOCATION:IL
END:VEVENT
BEGIN:VEVENT
DTSTART;TZID=America/Chicago:20240828T180000
DTEND;TZID=America/Chicago:20240828T193000
DTSTAMP:20260419T133116
CREATED:20240827T161432Z
LAST-MODIFIED:20240827T161432Z
UID:3953-1724868000-1724873400@ravenswoodmanor.com
SUMMARY:Yves Francois Rocambu Jazz in Manor Park
DESCRIPTION:Enjoy Jazz by Yves Francois Rocambu in Ravenswood Manor Park at 6pm as part of the Chicago Park District’s Night Out in the Parks series. \nFor more info\, see the Chicago Park District website’s page here.
URL:https://ravenswoodmanor.com/event/yves-francois-rocambu-jazz-in-manor-park/
LOCATION:Ravenswood Manor park
END:VEVENT
BEGIN:VEVENT
DTSTART;TZID=America/Chicago:20240829T180000
DTEND;TZID=America/Chicago:20240829T190000
DTSTAMP:20260419T133116
CREATED:20240827T132757Z
LAST-MODIFIED:20240827T132757Z
UID:3951-1724954400-1724958000@ravenswoodmanor.com
SUMMARY:Free Yoga in LaPointe Park
DESCRIPTION:Bring your mat\, water bottle\, bug spray\, and good energy for a fun and relaxing evening of FREE yoga in beautiful LaPointe Park with local yoga instructor\, Laura Johnston\, compliments of the RMIA.
URL:https://ravenswoodmanor.com/event/free-yoga-in-lapointe-park/
LOCATION:LaPointe Park\, 4741 N Manor Ave\, Chicago\, IL\, 60625\, United States
END:VEVENT
END:VCALENDAR