BEGIN:VCALENDAR
VERSION:2.0
PRODID:-//Ravenswood Manor Improvement Association - ECPv6.15.20//NONSGML v1.0//EN
CALSCALE:GREGORIAN
METHOD:PUBLISH
X-WR-CALNAME:Ravenswood Manor Improvement Association
X-ORIGINAL-URL:https://ravenswoodmanor.com
X-WR-CALDESC:Events for Ravenswood Manor Improvement Association
REFRESH-INTERVAL;VALUE=DURATION:PT1H
X-Robots-Tag:noindex
X-PUBLISHED-TTL:PT1H
BEGIN:VTIMEZONE
TZID:America/Chicago
BEGIN:DAYLIGHT
TZOFFSETFROM:-0600
TZOFFSETTO:-0500
TZNAME:CDT
DTSTART:20240310T080000
END:DAYLIGHT
BEGIN:STANDARD
TZOFFSETFROM:-0500
TZOFFSETTO:-0600
TZNAME:CST
DTSTART:20241103T070000
END:STANDARD
BEGIN:DAYLIGHT
TZOFFSETFROM:-0600
TZOFFSETTO:-0500
TZNAME:CDT
DTSTART:20250309T080000
END:DAYLIGHT
BEGIN:STANDARD
TZOFFSETFROM:-0500
TZOFFSETTO:-0600
TZNAME:CST
DTSTART:20251102T070000
END:STANDARD
BEGIN:DAYLIGHT
TZOFFSETFROM:-0600
TZOFFSETTO:-0500
TZNAME:CDT
DTSTART:20260308T080000
END:DAYLIGHT
BEGIN:STANDARD
TZOFFSETFROM:-0500
TZOFFSETTO:-0600
TZNAME:CST
DTSTART:20261101T070000
END:STANDARD
END:VTIMEZONE
BEGIN:VEVENT
DTSTART;TZID=America/Chicago:20250609T190000
DTEND;TZID=America/Chicago:20250609T203000
DTSTAMP:20260419T143442
CREATED:20250521T134641Z
LAST-MODIFIED:20250521T134641Z
UID:4176-1749495600-1749501000@ravenswoodmanor.com
SUMMARY:RMIA Board Meeting
DESCRIPTION:The RMIA June Board meeting will take place in person at TUTA at 4670 N Manor or virtually via this Google Meet Link. The public are welcome and encouraged to attend!
URL:https://ravenswoodmanor.com/event/rmia-board-meeting-6/
LOCATION:TUTA\, 4670 N Manor Ave\, Chicago\, IL\, 60625\, United States
END:VEVENT
BEGIN:VEVENT
DTSTART;TZID=America/Chicago:20250613T190000
DTEND;TZID=America/Chicago:20250613T210000
DTSTAMP:20260419T143442
CREATED:20250513T085901Z
LAST-MODIFIED:20250521T133649Z
UID:4161-1749841200-1749848400@ravenswoodmanor.com
SUMMARY:Concert: The Imperial Sound
DESCRIPTION:Join us for the first concert in the John O’Connell Summer Concert Series in Ravenswood Manor Park at 7pm on June 13th with music from The Imperial Sound! Learn more about this band on Horner Park’s Website here.
URL:https://ravenswoodmanor.com/event/concert-the-imperial-sound/
LOCATION:IL
END:VEVENT
BEGIN:VEVENT
DTSTART;TZID=America/Chicago:20250622T090000
DTEND;TZID=America/Chicago:20250622T100000
DTSTAMP:20260419T143442
CREATED:20250603T185813Z
LAST-MODIFIED:20250603T191454Z
UID:4189-1750582800-1750586400@ravenswoodmanor.com
SUMMARY:Ravenswood Manor Gardeners
DESCRIPTION:Please sign up to join the Ravenswood Manor Community Gardners to help maintain the RMIA-sposored green spaces in Ravenswood Manor\, which primarily include LaPointe Park and the Manor & Wilson Corner Garden. This event will be every third Sunday from 9am – 10am. Roles will include watering\, weeding\, and possible planting. Help your community\, meet your neighbors\, and enjoy some free donuts! Feel free to bring your kids\, garden gloves\, and any small hand tools you might want to use. As a non-profit organization\, the RMIA can sign off on any service hours for high school students. Sign up on our Sign Up Genius here. \n \n 
URL:https://ravenswoodmanor.com/event/ravenswood-manor-gardeners/
LOCATION:IL
END:VEVENT
BEGIN:VEVENT
DTSTART;TZID=America/Chicago:20250626T183000
DTEND;TZID=America/Chicago:20250626T193000
DTSTAMP:20260419T143442
CREATED:20250521T134114Z
LAST-MODIFIED:20250521T134114Z
UID:4169-1750962600-1750966200@ravenswoodmanor.com
SUMMARY:Free Yoga in LaPointe
DESCRIPTION:Join us for another summer of monthly free yoga in LaPointe Park with local yoga instructor and Ravenswood Manor neighbor\, Laura Johnston. Bring your mat\, water bottle\, bug spray\, and good energy for a relaxing evening of yoga surrounded by nature. Free yoga will take place on Thursdays May 29th\, June 26th\, July 31st\, and August 28th at 6:30 pm. Bring a friend!
URL:https://ravenswoodmanor.com/event/free-yoga-in-lapointe-2/
LOCATION:LaPointe Park\, 4741 N Manor Ave\, Chicago\, IL\, 60625\, United States
END:VEVENT
END:VCALENDAR